BEGIN:VCALENDAR
VERSION:2.0
PRODID:-//ChamberMaster//Event Calendar 2.0//EN
METHOD:PUBLISH
X-PUBLISHED-TTL:P1H
REFRESH-INTERVAL:P1H
CALSCALE:GREGORIAN
BEGIN:VTIMEZONE
TZID:America/New_York
BEGIN:DAYLIGHT
RRULE:FREQ=YEARLY;BYMONTH=3;BYDAY=2SU
DTSTART:20070101T000000
TZOFFSETFROM:-0500
TZOFFSETTO:-0400
TZNAME:Eastern Daylight Time
END:DAYLIGHT
BEGIN:STANDARD
RRULE:FREQ=YEARLY;BYMONTH=11;BYDAY=1SU
DTSTART:20070101T000000
TZOFFSETFROM:-0400
TZOFFSETTO:-0500
TZNAME:Eastern Standard Time
END:STANDARD
END:VTIMEZONE
BEGIN:VEVENT
DTSTART;TZID=America/New_York:20251007T113000
DTEND;TZID=America/New_York:20251007T130000
X-MICROSOFT-CDO-ALLDAYEVENT:FALSE
SUMMARY:VA Case Files: Real Scenarios\, Real Solutions
DESCRIPTION:Step into the world of VA financing through real life case files! In this interactive class\, we'll walk through common situations REALTORS face when working with VA buyers and sellers - from appraisal challenges to closing costs and seller hesitations. You'll get to explore how you might handle each scenario\, then hear expert insights on the best strategies to keep deals moving forward. \nBy the end of this session\, you'll walk away with practical tools and a deeper confidence in helping VA clients succeed. \n\nClass and lunch provided by Coast2Coast Mortgage with Antionette Jarrett
X-ALT-DESC;FMTTYPE=text/html:Step into the world of VA financing through real life case files! In this interactive class\, we'll walk through common situations REALTORS face when working with VA buyers and sellers - from appraisal challenges to closing costs and seller hesitations. You'll get to explore how you might handle each scenario\, then hear expert insights on the best strategies to keep deals moving forward. \nBy the end of this session\, you'll walk away with practical tools and a deeper confidence in helping VA clients succeed. \n\nClass and lunch provided by Coast2Coast Mortgage with Antionette Jarrett
LOCATION:1062 US 92 Auburndale FL 33823
UID:e.2114.1269417
SEQUENCE:3
DTSTAMP:20260420T105341Z
URL:https://members.epcar.com/calendar/Details/va-case-files-real-scenarios-real-solutions-1486188?sourceTypeId=Hub
END:VEVENT
END:VCALENDAR
